BEGIN:VCALENDAR
VERSION:2.0
PRODID:-//Beth El - ECPv4.6.10.1//NONSGML v1.0//EN
CALSCALE:GREGORIAN
METHOD:PUBLISH
X-WR-CALNAME:Beth El
X-ORIGINAL-URL:http://bethel.org.nz
X-WR-CALDESC:Events for Beth El
BEGIN:VEVENT
DTSTART;VALUE=DATE:20180520
DTEND;VALUE=DATE:20180521
DTSTAMP:20210121T200837
CREATED:20180503T040445Z
LAST-MODIFIED:20180503T040523Z
UID:318-1526774400-1526860799@bethel.org.nz
SUMMARY:Shavu'ot (Pentecost)
DESCRIPTION:
URL:http://bethel.org.nz/event/shavuot-pentecost/
END:VEVENT
END:VCALENDAR