BEGIN:VCALENDAR
VERSION:2.0
PRODID:-//Beth El - ECPv4.6.10.1//NONSGML v1.0//EN
CALSCALE:GREGORIAN
METHOD:PUBLISH
X-WR-CALNAME:Beth El
X-ORIGINAL-URL:http://bethel.org.nz
X-WR-CALDESC:Events for Beth El
BEGIN:VEVENT
DTSTART;VALUE=DATE:20180429
DTEND;VALUE=DATE:20180430
DTSTAMP:20210120T032944
CREATED:20180405T023441Z
LAST-MODIFIED:20180405T023441Z
UID:295-1524960000-1525046399@bethel.org.nz
SUMMARY:Pesach Sheni ( Second Passover)
DESCRIPTION:
URL:http://bethel.org.nz/event/pesach-sheni-second-passover/
END:VEVENT
END:VCALENDAR