BEGIN:VCALENDAR
VERSION:2.0
PRODID:-//Beth El - ECPv4.6.10.1//NONSGML v1.0//EN
CALSCALE:GREGORIAN
METHOD:PUBLISH
X-WR-CALNAME:Beth El
X-ORIGINAL-URL:http://bethel.org.nz
X-WR-CALDESC:Events for Beth El
BEGIN:VEVENT
DTSTART;TZID=UTC+0:20180529T191500
DTEND;TZID=UTC+0:20180529T210000
DTSTAMP:20210121T200929
CREATED:20180503T041212Z
LAST-MODIFIED:20180503T041212Z
UID:326-1527621300-1527627600@bethel.org.nz
SUMMARY:Musicians and singers
DESCRIPTION:At the van Ameringen’s \n
URL:http://bethel.org.nz/event/musicians-and-singers/
END:VEVENT
END:VCALENDAR