BEGIN:VCALENDAR
VERSION:2.0
PRODID:-//Beth El - ECPv4.6.10.1//NONSGML v1.0//EN
CALSCALE:GREGORIAN
METHOD:PUBLISH
X-WR-CALNAME:Beth El
X-ORIGINAL-URL:http://bethel.org.nz
X-WR-CALDESC:Events for Beth El
BEGIN:VEVENT
DTSTART;TZID=UTC+0:20180515T191500
DTEND;TZID=UTC+0:20180515T210000
DTSTAMP:20210121T200834
CREATED:20180503T035912Z
LAST-MODIFIED:20180503T035912Z
UID:314-1526411700-1526418000@bethel.org.nz
SUMMARY:Musicians and Singers practice
DESCRIPTION:At the van Ameringen’s \n
URL:http://bethel.org.nz/event/musicians-and-singers-practice-5/
END:VEVENT
END:VCALENDAR