BEGIN:VCALENDAR
VERSION:2.0
PRODID:-//Beth El - ECPv4.6.10.1//NONSGML v1.0//EN
CALSCALE:GREGORIAN
METHOD:PUBLISH
X-WR-CALNAME:Beth El
X-ORIGINAL-URL:http://bethel.org.nz
X-WR-CALDESC:Events for Beth El
BEGIN:VEVENT
DTSTART;TZID=UTC+0:20180502T191500
DTEND;TZID=UTC+0:20180502T210000
DTSTAMP:20210121T201117
CREATED:20180503T034643Z
LAST-MODIFIED:20180503T034643Z
UID:304-1525288500-1525294800@bethel.org.nz
SUMMARY:Musicians and singers practice
DESCRIPTION:7.15pm at the Van Ameringen’s \n
URL:http://bethel.org.nz/event/musicians-and-singers-practice-4/
END:VEVENT
END:VCALENDAR