BEGIN:VCALENDAR
VERSION:2.0
PRODID:-//Beth El - ECPv4.6.10.1//NONSGML v1.0//EN
CALSCALE:GREGORIAN
METHOD:PUBLISH
X-WR-CALNAME:Beth El
X-ORIGINAL-URL:http://bethel.org.nz
X-WR-CALDESC:Events for Beth El
BEGIN:VEVENT
DTSTART;TZID=UTC+0:20180524T180000
DTEND;TZID=UTC+0:20180524T200000
DTSTAMP:20210121T200615
CREATED:20180503T035735Z
LAST-MODIFIED:20180503T035735Z
UID:312-1527184800-1527192000@bethel.org.nz
SUMMARY:Men's night @ Citz Club
DESCRIPTION:All men welcome. \n6pm for dinner and get together \n
URL:http://bethel.org.nz/event/mens-night-citz-club/
END:VEVENT
END:VCALENDAR