BEGIN:VCALENDAR
VERSION:2.0
PRODID:-//Beth El - ECPv4.6.10.1//NONSGML v1.0//EN
CALSCALE:GREGORIAN
METHOD:PUBLISH
X-WR-CALNAME:Beth El
X-ORIGINAL-URL:http://bethel.org.nz
X-WR-CALDESC:Events for Beth El
BEGIN:VEVENT
DTSTART;TZID=UTC+0:20180517T071500
DTEND;TZID=UTC+0:20180517T083000
DTSTAMP:20210121T200925
CREATED:20180503T041019Z
LAST-MODIFIED:20180503T041019Z
UID:324-1526541300-1526545800@bethel.org.nz
SUMMARY:Ladies Breakfast @ Grindz
DESCRIPTION:All welcome \nText Sharon 021 606453 for further information \n
URL:http://bethel.org.nz/event/ladies-breakfast-grindz/
END:VEVENT
END:VCALENDAR