BEGIN:VCALENDAR
VERSION:2.0
PRODID:-//Beth El - ECPv4.6.10.1//NONSGML v1.0//EN
CALSCALE:GREGORIAN
METHOD:PUBLISH
X-WR-CALNAME:Beth El
X-ORIGINAL-URL:http://bethel.org.nz
X-WR-CALDESC:Events for Beth El
BEGIN:VEVENT
DTSTART;VALUE=DATE:20180419
DTEND;VALUE=DATE:20180420
DTSTAMP:20210120T032835
CREATED:20180405T023348Z
LAST-MODIFIED:20180405T023348Z
UID:293-1524096000-1524182399@bethel.org.nz
SUMMARY:Israel Independence Day
DESCRIPTION:
URL:http://bethel.org.nz/event/israel-independence-day/
END:VEVENT
END:VCALENDAR