BEGIN:VCALENDAR
VERSION:2.0
PRODID:-//Beth El - ECPv4.6.10.1//NONSGML v1.0//EN
CALSCALE:GREGORIAN
METHOD:PUBLISH
X-WR-CALNAME:Beth El
X-ORIGINAL-URL:http://bethel.org.nz
X-WR-CALDESC:Events for Beth El
BEGIN:VEVENT
DTSTART;TZID=UTC+0:20180422T180000
DTEND;TZID=UTC+0:20180422T200000
DTSTAMP:20210120T032845
CREATED:20180405T021612Z
LAST-MODIFIED:20180405T021612Z
UID:283-1524420000-1524427200@bethel.org.nz
SUMMARY:Conversational Hebrew Lessons
DESCRIPTION:For further information Sharon 021 606 453 \n
URL:http://bethel.org.nz/event/conversational-hebrew-lessons/
END:VEVENT
END:VCALENDAR