BEGIN:VCALENDAR
VERSION:2.0
PRODID:-//Beth El - ECPv4.6.10.1//NONSGML v1.0//EN
CALSCALE:GREGORIAN
METHOD:PUBLISH
X-WR-CALNAME:Beth El
X-ORIGINAL-URL:http://bethel.org.nz
X-WR-CALDESC:Events for Beth El
BEGIN:VEVENT
DTSTART;TZID=UTC+0:20180429T180000
DTEND;TZID=UTC+0:20180429T200000
DTSTAMP:20210120T032947
CREATED:20180405T021904Z
LAST-MODIFIED:20180405T021904Z
UID:285-1525024800-1525032000@bethel.org.nz
SUMMARY:Conversational Hebrew Lessons
DESCRIPTION:For further information text Sharon 021 606 0r email us \ninfo@bethel.org.nz \n
URL:http://bethel.org.nz/event/conversational-hebrew-lessons-2/
END:VEVENT
END:VCALENDAR