BEGIN:VCALENDAR
VERSION:2.0
PRODID:-//Beth El - ECPv4.6.10.1//NONSGML v1.0//EN
CALSCALE:GREGORIAN
METHOD:PUBLISH
X-WR-CALNAME:Beth El
X-ORIGINAL-URL:http://bethel.org.nz
X-WR-CALDESC:Events for Beth El
BEGIN:VEVENT
DTSTART;TZID=UTC+0:20180217T100000
DTEND;TZID=UTC+0:20180217T130000
DTSTAMP:20210120T032925
CREATED:20180214T023104Z
LAST-MODIFIED:20180214T023104Z
UID:212-1518861600-1518872400@bethel.org.nz
SUMMARY:BethEl First Anniversary
DESCRIPTION:Shared Lunch after the Service \nOtumoetai Primary School Hall \n
URL:http://bethel.org.nz/event/bethel-first-anniversary/
END:VEVENT
END:VCALENDAR