BEGIN:VCALENDAR
VERSION:2.0
PRODID:-//Beth El - ECPv4.6.10.1//NONSGML v1.0//EN
CALSCALE:GREGORIAN
METHOD:PUBLISH
X-WR-CALNAME:Beth El
X-ORIGINAL-URL:http://bethel.org.nz
X-WR-CALDESC:Events for Beth El
BEGIN:VEVENT
DTSTART;TZID=UTC+0:20180316T190000
DTEND;TZID=UTC+0:20180316T210000
DTSTAMP:20210120T033011
CREATED:20180322T021345Z
LAST-MODIFIED:20180322T021411Z
UID:250-1521226800-1521234000@bethel.org.nz
SUMMARY:1 Nisan Celebration
DESCRIPTION:
URL:http://bethel.org.nz/event/1-nisan-celebration/
LOCATION:Otumoetai\, Tauranga\, New Zealand
END:VEVENT
END:VCALENDAR